BEGIN:VCALENDAR
VERSION:2.0
PRODID:-//Squarespace Inc/Squarespace 6//v6//EN
BEGIN:VEVENT
UID:59dec7fee9bfdf9612329a6b@squarespace.com
DTSTAMP:20171012T014919Z
DTSTART:20171125T140000Z
DTEND:20171125T203000Z
SUMMARY:BIBLE360: Intro to the Bible - Dalby
GEO:-27.184591;151.263438
LOCATION:St John's Anglican Church\, 153 Cunningham Street\, Dalby\, QLD\, 
 4405\, Australia
END:VEVENT
END:VCALENDAR
