BEGIN:VCALENDAR
VERSION:2.0
PRODID:-//Squarespace Inc/Squarespace 6//v6//EN
BEGIN:VEVENT
UID:59dec5c63e00beeac839f97d@squarespace.com
DTSTAMP:20171012T013926Z
DTSTART:20171118T140000Z
DTEND:20171118T203000Z
SUMMARY:FAITH360:Praying in Anglican Ways - St John's Cathedral
GEO:-27.463721;153.029759
LOCATION:St Johns Cathedral - Darnell Room\, Ann Street\, Brisbane\, QLD\, 
 4001\, Australia
END:VEVENT
END:VCALENDAR
