BEGIN:VCALENDAR
VERSION:2.0
PRODID:-//Squarespace Inc/Squarespace 6//v6//EN
BEGIN:VEVENT
UID:59e541e3b7411c0fe8def66b@squarespace.com
DTSTAMP:20171018T052923Z
DTSTART:20171029T190000Z
DTEND:20171029T220000Z
SUMMARY:Valedictory Eucharist
END:VEVENT
END:VCALENDAR
