BEGIN:VCALENDAR
VERSION:2.0
PRODID:-//Squarespace Inc/Squarespace 6//v6//EN
BEGIN:VEVENT
UID:59ded2f629f18789e2a239b4@squarespace.com
DTSTAMP:20171013T033939Z
DTSTART:20171019T213000Z
DTEND:20171019T230000Z
SUMMARY:Book Launch: Passion for Nothing
GEO:-27.46738;153.003643
LOCATION:St Francis College - Lecture Room 1\, 233 Milton Road\, Milton\, Q
 LD\, 4064\, Australia
END:VEVENT
END:VCALENDAR
