BEGIN:VCALENDAR
VERSION:2.0
PRODID:-//Squarespace Inc/Squarespace 6//v6//EN
BEGIN:VEVENT
UID:59e6e7a4c027d82b6603630b@squarespace.com
DTSTAMP:20171018T061050Z
DTSTART:20171024T223000Z
DTEND:20171025T000000Z
SUMMARY:SFC Open Night
GEO:-27.46738;153.003643
LOCATION:St Francis College\, 233 Milton Road\,\, Milton\, Queensland\,\, A
 ustralia
END:VEVENT
END:VCALENDAR
