BEGIN:VCALENDAR
VERSION:2.0
PRODID:-//Squarespace Inc/Squarespace 6//v6//EN
BEGIN:VEVENT
UID:59d4865cf7e0abf6298b1857@squarespace.com
DTSTAMP:20171005T235337Z
DTSTART:20171007T140000Z
DTEND:20171008T200000Z
SUMMARY:Brisbane Open House + Community Spring Fair
GEO:-27.46738;153.003643
LOCATION:St Francis College\, 233 Milton Road\, Milton\, QLD\, 4064\, Austr
 alia
END:VEVENT
END:VCALENDAR
