BEGIN:VCALENDAR
VERSION:2.0
PRODID:-//Squarespace Inc/Squarespace 6//v6//EN
BEGIN:VEVENT
UID:59decee7b7411cb24636de3b@squarespace.com
DTSTAMP:20171016T084459Z
DTSTART:20171128T223000Z
DTEND:20171129T000000Z
SUMMARY:Reading with Spiritual Eyes Book Chat
GEO:-27.46738;153.003643
LOCATION:Roscoe Library\, St Francis College\, 233 Milton Road\, Milton\, Q
 LD\, 4064\, Australia
END:VEVENT
END:VCALENDAR
