BEGIN:VCALENDAR
VERSION:2.0
PRODID:-//Squarespace Inc/Squarespace 6//v6//EN
BEGIN:VEVENT
UID:5a1f42cf53450a3d8ebd55f1@squarespace.com
DTSTAMP:20171130T001211Z
DTSTART:20171202T150000Z
DTEND:20171202T180000Z
SUMMARY:Ordination of Deacons and Priests
GEO:-27.464059;153.029432
LOCATION:St John's Cathedral\, 373 Ann Street\, Brisbane City\, QLD\, 4000\
 , Australia
END:VEVENT
END:VCALENDAR
