BEGIN:VCALENDAR
VERSION:2.0
PRODID:-//Squarespace Inc/Squarespace 6//v6//EN
BEGIN:VEVENT
UID:5bbbf460e79c7072268caa9b@squarespace.com
DTSTAMP:20181009T002802Z
DTSTART:20181013T150000Z
DTEND:20181014T200000Z
SUMMARY:Free Tour
GEO:-27.467416;153.003675
LOCATION:St Francis College\, 233 Milton Road\, Milton\, QLD\, 4064\, Austr
 alia
END:VEVENT
END:VCALENDAR
