BEGIN:VCALENDAR
VERSION:2.0
PRODID:-//Squarespace Inc/Squarespace 6//v6//EN
BEGIN:VEVENT
UID:5b87539821c67cb8d50c60ca@squarespace.com
DTSTAMP:20180830T033921Z
DTSTART:20181023T220000Z
DTEND:20181024T000000Z
SUMMARY:St Francis College Information Evening
GEO:40.720756;-74.000761
LOCATION:St Francis College\, 233 Milton Road\, Milton\, QLD\, 4064\, Austr
 alia
END:VEVENT
END:VCALENDAR
