BEGIN:VCALENDAR
VERSION:2.0
PRODID:-//Squarespace Inc/Squarespace 6//v6//EN
BEGIN:VEVENT
UID:5becb544575d1f1bd375194f@squarespace.com
DTSTAMP:20181114T235903Z
DTSTART:20181127T233000Z
DTEND:20181128T013000Z
SUMMARY:Community Campfire
GEO:-27.467416;153.003675
LOCATION:St Francis College\, 233 Milton Road\, Milton\, QLD\, 4064\, Austr
 alia
END:VEVENT
END:VCALENDAR
