BEGIN:VCALENDAR
VERSION:2.0
PRODID:-//Squarespace Inc/Squarespace 6//v6//EN
BEGIN:VEVENT
UID:5c07553a70a6add5f1f38e6a@squarespace.com
DTSTAMP:20190215T001913Z
DTSTART:20190319T213000Z
DTEND:20190319T230000Z
SUMMARY:Reading With Spiritual Eyes Book Chat
GEO:-27.467416;153.003675
LOCATION:Roscoe Library\, St Francis College\, 233 Milton Road\, Milton\, Q
 LD\, 4064\, Australia
END:VEVENT
END:VCALENDAR
