BEGIN:VCALENDAR
VERSION:2.0
PRODID:-//Squarespace Inc/Squarespace 6//v6//EN
BEGIN:VEVENT
UID:5b9a080a4fa51abe6b87ff6a@squarespace.com
DTSTAMP:20181205T043402Z
DTSTART:20181127T223000Z
DTEND:20181128T000000Z
SUMMARY:Reading With Spiritual Eyes Book Chat
GEO:-27.467416;153.003675
LOCATION:Roscoe Library\, St Francis College\, 233 Milton Road\, Milton\, Q
 LD\, 4064\, Australia
END:VEVENT
END:VCALENDAR
