BEGIN:VCALENDAR
VERSION:2.0
PRODID:-//Squarespace Inc/Squarespace 6//v6//EN
BEGIN:VEVENT
UID:5d118a57a66e9900017d9e15@squarespace.com
DTSTAMP:20190625T024950Z
DTSTART:20190718T160000Z
DTEND:20190720T190000Z
SUMMARY: Another Very Special Book Sale!
GEO:-27.467416;153.003675
LOCATION:Lecture Room 1\, St Francis College\, 233 Milton Road\, Milton\, Q
 LD\, 4064\, Australia
END:VEVENT
END:VCALENDAR
