BEGIN:VCALENDAR
VERSION:2.0
PRODID:-//Squarespace Inc/Squarespace 6//v6//EN
BEGIN:VEVENT
UID:5be3bb4a8a922dc40a0ae56f@squarespace.com
DTSTAMP:20190625T024335Z
DTSTART:20181130T150000Z
DTEND:20181201T220000Z
SUMMARY:Special Book Sale!
GEO:-27.467416;153.003675
LOCATION:Lecture Room 1\, St Francis College\, 233 Milton Road\, Milton\, Q
 LD\, 4064\, Australia
END:VEVENT
END:VCALENDAR
