BEGIN:VCALENDAR
VERSION:2.0
PRODID:-//Squarespace Inc/Squarespace 6//v6//EN
BEGIN:VEVENT
UID:59dec8cf6f4ca3f9e706dac8@squarespace.com
DTSTAMP:20171012T014744Z
DTSTART:20180217T140000Z
DTEND:20180217T203000Z
SUMMARY:BIBLE360: Intro to the Bible - St Pauls Ipswich
GEO:-27.615562;152.763948
LOCATION:St Paul's Anglican Church\, 24 Brisbane Street\, Ipswich\, QLD\, 4
 305\, Australia
END:VEVENT
END:VCALENDAR
