BEGIN:VCALENDAR
VERSION:2.0
PRODID:-//Squarespace Inc/Squarespace 6//v6//EN
BEGIN:VEVENT
UID:5a8b548b53450a65526e0b0f@squarespace.com
DTSTAMP:20180226T045724Z
DTSTART:20180220T233000Z
DTEND:20180222T013000Z
SUMMARY:SFC Student Orientation Evenings
GEO:-27.467416;153.003675
LOCATION:St Francis College\, 233 Milton Road\, Milton\, QLD\, 4064\, Austr
 alia
END:VEVENT
END:VCALENDAR
