BEGIN:VCALENDAR
VERSION:2.0
PRODID:-//Squarespace Inc/Squarespace 6//v6//EN
BEGIN:VEVENT
UID:5a8b8e62ec212d1cb40a69e9@squarespace.com
DTSTAMP:20180226T045628Z
DTSTART:20180224T000000Z
DTEND:20180224T013000Z
SUMMARY:Public Lecture:  A Prayer Book for Australia: That Was Then\, This 
 is Now
GEO:-27.467416;153.003675
LOCATION:St Francis College\, LR1\, 233 Milton Road\, Milton\, QLD\, 4064\, 
 Australia
END:VEVENT
END:VCALENDAR
