BEGIN:VCALENDAR
VERSION:2.0
PRODID:-//Squarespace Inc/Squarespace 6//v6//EN
BEGIN:VEVENT
UID:5a939bc6e2c483bcb2c60e44@squarespace.com
DTSTAMP:20180226T053939Z
DTSTART:20180228T180000Z
DTEND:20180228T190000Z
SUMMARY:Lectionary @ Lunch
GEO:-27.467416;153.003675
LOCATION:St Francis College\, 233 Milton Road\, Milton\, QLD\, 4064\, Austr
 alia
END:VEVENT
END:VCALENDAR
