BEGIN:VCALENDAR
VERSION:2.0
PRODID:-//Squarespace Inc/Squarespace 6//v6//EN
BEGIN:VEVENT
UID:5a9657f971c10b4fee45be0d@squarespace.com
DTSTAMP:20180228T072528Z
DTSTART:20180306T180000Z
DTEND:20180306T190000Z
SUMMARY:Lectionary @ Lunch on Tuesdays
GEO:-27.467416;153.003675
LOCATION:St Francis College\, 233 Milton Road\, Milton\, QLD\, 4064\, Austr
 alia
END:VEVENT
END:VCALENDAR
