BEGIN:VCALENDAR
VERSION:2.0
PRODID:-//Squarespace Inc/Squarespace 6//v6//EN
BEGIN:VEVENT
UID:5ad6e2ea03ce645b245164c6@squarespace.com
DTSTAMP:20180418T063118Z
DTSTART:20180419T180000Z
DTEND:20180419T210000Z
SUMMARY:SFC Research Seminar
GEO:-27.467416;153.003675
LOCATION:LR1\, St Francis College\, 233 Milton Road\, Milton\, QLD\, 4064\, 
 Australia
END:VEVENT
END:VCALENDAR
