BEGIN:VCALENDAR
VERSION:2.0
PRODID:-//Squarespace Inc/Squarespace 6//v6//EN
BEGIN:VEVENT
UID:5afb6a19f950b71b08d1b507@squarespace.com
DTSTAMP:20180515T235808Z
DTSTART:20180517T180000Z
DTEND:20180517T200000Z
SUMMARY:SFC Research Seminar
GEO:-27.467416;153.003675
LOCATION:Lecture Room 1\, St Francis College\, 233 Milton Road\, Milton\, Q
 LD\, 4064\, Australia
END:VEVENT
END:VCALENDAR
