BEGIN:VCALENDAR
VERSION:2.0
PRODID:-//Squarespace Inc/Squarespace 6//v6//EN
BEGIN:VEVENT
UID:5afb7228562fa76042df5f36@squarespace.com
DTSTAMP:20180515T235627Z
DTSTART:20180529T163000Z
DTEND:20180529T173000Z
SUMMARY:Reconciliation Week Eucharist
GEO:-27.467416;153.003675
LOCATION:Chapel of the Holy Spirit\, St Francis College\, 233 Milton Road\, 
 Milton\, QLD\, 4064\, Australia
END:VEVENT
END:VCALENDAR
