BEGIN:VCALENDAR
VERSION:2.0
PRODID:-//Squarespace Inc/Squarespace 6//v6//EN
BEGIN:VEVENT
UID:5ae117ca6d2a731ca047aa54@squarespace.com
DTSTAMP:20180430T032638Z
DTSTART:20180507T230000Z
DTEND:20180508T010000Z
SUMMARY:Felix Arnott Lecture 2018 presented by Professor Ellen Charry
GEO:-27.466134;153.009919
LOCATION:Christ Church\, 9 Chippendall Street\, Milton
END:VEVENT
END:VCALENDAR
