BEGIN:VCALENDAR
VERSION:2.0
PRODID:-//Squarespace Inc/Squarespace 6//v6//EN
BEGIN:VEVENT
UID:5afb7505575d1f1ace2454dc@squarespace.com
DTSTAMP:20180606T070331Z
DTSTART:20180614T230000Z
DTEND:20180615T010000Z
SUMMARY:Public Lecture: Kevin Hart
GEO:-27.467416;153.003675
LOCATION:Old Bishopsbourne\, St Francis College\, 233 Milton Road\, Milton\
 , QLD\, 4064\, Australia
END:VEVENT
END:VCALENDAR
