BEGIN:VCALENDAR
VERSION:2.0
PRODID:-//Squarespace Inc/Squarespace 6//v6//EN
BEGIN:VEVENT
UID:5ae11438f950b7671d6510a0@squarespace.com
DTSTAMP:20180426T001426Z
DTSTART:20180615T180000Z
DTEND:20180617T200000Z
SUMMARY:TELL IT SLANT: A SYMPOSIUM ON THEOLOGY AND THE ARTS
END:VEVENT
END:VCALENDAR
