BEGIN:VCALENDAR
VERSION:2.0
PRODID:-//Squarespace Inc/Squarespace 6//v6//EN
BEGIN:VEVENT
UID:5ae12e66aa4a9989a336a1cc@squarespace.com
DTSTAMP:20180426T014631Z
DTSTART:20180619T213000Z
DTEND:20180619T230000Z
SUMMARY:Reading with Spiritual Eyes Book Chat
GEO:-27.467416;153.003675
LOCATION:Roscoe Library\, St Francis College\, 233 Milton Road\, Milton\, Q
 LD\, 4064\, Australia
END:VEVENT
END:VCALENDAR
