BEGIN:VCALENDAR
VERSION:2.0
PRODID:-//Squarespace Inc/Squarespace 6//v6//EN
BEGIN:VEVENT
UID:5b30367a0e2e7265f3fce156@squarespace.com
DTSTAMP:20180625T073640Z
DTSTART:20180715T140000Z
DTEND:20180715T210000Z
SUMMARY:Just Disciples 2018: A Day for Young Anglicans
GEO:-27.467416;153.003675
LOCATION:St Francis College\, 233 Milton Road\, Milton\, QLD\, 4064\, Austr
 alia
END:VEVENT
END:VCALENDAR
