BEGIN:VCALENDAR
VERSION:2.0
PRODID:-//Squarespace Inc/Squarespace 6//v6//EN
BEGIN:VEVENT
UID:5ae11b1003ce649859a30ebe@squarespace.com
DTSTAMP:20180426T014143Z
DTSTART:20180721T130000Z
DTEND:20180721T200000Z
SUMMARY:Accordance Bible Software Training Seminar
GEO:-27.467416;153.003675
LOCATION:Lecture Room 1\, St Francis College\, 233 Milton Rd\, Milton\, Aus
 tralia
END:VEVENT
END:VCALENDAR
