BEGIN:VCALENDAR
VERSION:2.0
PRODID:-//Squarespace Inc/Squarespace 6//v6//EN
BEGIN:VEVENT
UID:5b99b8408985830bc3e2a2e2@squarespace.com
DTSTAMP:20180913T011526Z
DTSTART:20181012T140000Z
DTEND:20181012T153000Z
SUMMARY:Any hope for Palestine? Areej Masoud Speaking Tour
GEO:-27.467416;153.003675
LOCATION:St Francis College\, 233 Milton Road\, Milton\, QLD\, 4064\, Austr
 alia
END:VEVENT
END:VCALENDAR
