BEGIN:VCALENDAR
VERSION:2.0
PRODID:-//Squarespace Inc/Squarespace 6//v6//EN
BEGIN:VEVENT
UID:5ba0584a0e2e72cd70da886d@squarespace.com
DTSTAMP:20180918T014924Z
DTSTART:20180920T180000Z
DTEND:20180920T190000Z
SUMMARY:Challenge your mind!
GEO:-27.467416;153.003675
LOCATION:St Francis College\, 233 Milton Road\, Milton\, QLD\, 4064\, Austr
 alia
END:VEVENT
END:VCALENDAR
