BEGIN:VCALENDAR
VERSION:2.0
PRODID:-//Squarespace Inc/Squarespace 6//v6//EN
BEGIN:VEVENT
UID:5bada318104c7b7a4c33f2b1@squarespace.com
DTSTAMP:20181001T235410Z
DTSTART:20181117T140000Z
DTEND:20190202T210000Z
SUMMARY:Explore Global Christianity
GEO:-27.467416;153.003675
LOCATION:St Francis College\, 233 Milton Road\, Milton\, QLD\, 4064\, Austr
 alia
END:VEVENT
END:VCALENDAR
