BEGIN:VCALENDAR
VERSION:2.0
PRODID:-//Squarespace Inc/Squarespace 6//v6//EN
BEGIN:VEVENT
UID:5c9420ed652dea60a0faba42@squarespace.com
DTSTAMP:20190322T003135Z
DTSTART:20190611T213000Z
DTEND:20190611T230000Z
SUMMARY:Reading With Spiritual Eyes Book Chat
GEO:-27.467416;153.003675
LOCATION:Roscoe Library\, St Francis College\, 233 Milton Road\, Milton\, Q
 LD\, 4064\, Australia
END:VEVENT
END:VCALENDAR
