BEGIN:VCALENDAR
VERSION:2.0
PRODID:-//Squarespace Inc/Squarespace 6//v6//EN
BEGIN:VEVENT
UID:5c36affc40ec9ad078affe9d@squarespace.com
DTSTAMP:20190110T024042Z
DTSTART:20190110T030000Z
DTEND:20190304T040000Z
SUMMARY:Auditing at SFC
GEO:-27.467416;153.003675
LOCATION:St Francis College\, 233 Milton Road\, Milton\, QLD\, 4064\, Austr
 alia
END:VEVENT
END:VCALENDAR
