BEGIN:VCALENDAR
VERSION:2.0
PRODID:-//Squarespace Inc/Squarespace 6//v6//EN
BEGIN:VEVENT
UID:5dad2553196e61676eca9469@squarespace.com
DTSTAMP:20191021T033309Z
DTSTART:20191130T140000Z
DTEND:20200201T200000Z
SUMMARY:Enrol for Sem 3 2019 and Sem 1 2020 Subjects
GEO:-27.467416;153.003675
LOCATION:St Francis College\, 233 Milton Road\, Milton\, QLD\, 4064\, Austr
 alia
END:VEVENT
END:VCALENDAR
