BEGIN:VCALENDAR
VERSION:2.0
PRODID:-//Squarespace Inc/Squarespace 6//v6//EN
BEGIN:VEVENT
UID:5d7aff5acba69b7009a660cd@squarespace.com
DTSTAMP:20190913T023722Z
DTSTART:20191005T133000Z
DTEND:20191005T163000Z
SUMMARY:Missional Imagination
GEO:-27.467416;153.003675
LOCATION:St Francis College\, 233 Milton Road\, Milton\, QLD\, 4064\, Austr
 alia
END:VEVENT
END:VCALENDAR
