BEGIN:VCALENDAR
VERSION:2.0
PRODID:-//Squarespace Inc/Squarespace 6//v6//EN
BEGIN:VEVENT
UID:5cbe84d5c83025c66caa3b89@squarespace.com
DTSTAMP:20190428T234850Z
DTSTART:20191009T230000Z
DTEND:20191010T010000Z
SUMMARY:Bill Salier - Wine &amp\; Cheese + Public Lecture
GEO:-27.467416;153.003675
LOCATION:St Francis College\, 233 Milton Road\, Milton\, QLD\, 4064\, Austr
 alia
END:VEVENT
END:VCALENDAR
