BEGIN:VCALENDAR
VERSION:2.0
PRODID:-//Squarespace Inc/Squarespace 6//v6//EN
BEGIN:VEVENT
UID:5dccb16b0b644077fc5677b6@squarespace.com
DTSTAMP:20191114T020444Z
DTSTART:20191114T180000Z
DTEND:20191210T220000Z
SUMMARY:Property and Finance Manager
GEO:-27.467416;153.003675
LOCATION:St Francis College\, 233 Milton Road\, Milton\, QLD\, 4064\, Austr
 alia
END:VEVENT
END:VCALENDAR
