BEGIN:VCALENDAR
VERSION:2.0
PRODID:-//Squarespace Inc/Squarespace 6//v6//EN
BEGIN:VEVENT
UID:5db64cbef7a6c635a1484aa4@squarespace.com
DTSTAMP:20191028T231403Z
DTSTART:20191120T223000Z
DTEND:20191121T000000Z
SUMMARY:Book Launch Invitation
GEO:-27.467416;153.003675
LOCATION:St Francis College\, 233 Milton Road\, Milton\, QLD\, 4064\, Austr
 alia
END:VEVENT
END:VCALENDAR
