BEGIN:VCALENDAR
VERSION:2.0
PRODID:-//Squarespace Inc/Squarespace 6//v6//EN
BEGIN:VEVENT
UID:5dd75a2e7870bf27b357fa1e@squarespace.com
DTSTAMP:20191202T233407Z
DTSTART:20191122T040000Z
DTEND:20200209T220000Z
SUMMARY:Apply for Spiritual Direction Formation Program
GEO:-27.467416;153.003675
LOCATION:St Francis College\, 233 Milton Road\, Milton\, QLD\, 4064\, Austr
 alia
END:VEVENT
END:VCALENDAR
