BEGIN:VCALENDAR
VERSION:2.0
PRODID:-//Squarespace Inc/Squarespace 6//v6//EN
BEGIN:VEVENT
UID:5dd75b347870bf27b35813e6@squarespace.com
DTSTAMP:20191122T035906Z
DTSTART:20191122T040000Z
DTEND:20200131T170000Z
SUMMARY:Community of the Way - Apply now for 2020
GEO:-27.467416;153.003675
LOCATION:St Francis College\, 233 Milton Road\, Milton\, QLD\, 4064\, Austr
 alia
END:VEVENT
END:VCALENDAR
