BEGIN:VCALENDAR
VERSION:2.0
PRODID:-//Squarespace Inc/Squarespace 6//v6//EN
BEGIN:VEVENT
UID:5da90120d5a903190c856c42@squarespace.com
DTSTAMP:20191018T000829Z
DTSTART:20191123T150000Z
DTEND:20191123T170000Z
SUMMARY:St Francis College Information Morning
GEO:-27.467416;153.003675
LOCATION:St Francis College\, 233 Milton Road\, Milton\, QLD\, 4064\, Austr
 alia
END:VEVENT
END:VCALENDAR
