BEGIN:VCALENDAR
VERSION:2.0
PRODID:-//Squarespace Inc/Squarespace 6//v6//EN
BEGIN:VEVENT
UID:5e6b1fac6738445292e1eeb5@squarespace.com
DTSTAMP:20200313T060318Z
DTSTART:20200317T213000Z
DTEND:20200317T230000Z
SUMMARY:Reading With Spiritual Eyes
GEO:-27.467416;153.003675
LOCATION:St Francis College\, 233 Milton Road\, Milton\, QLD\, 4064\, Austr
 alia
END:VEVENT
END:VCALENDAR
