BEGIN:VCALENDAR
VERSION:2.0
PRODID:-//Squarespace Inc/Squarespace 6//v6//EN
BEGIN:VEVENT
UID:5d7ae4936bc46d6223cedd8b@squarespace.com
DTSTAMP:20200313T055244Z
DTSTART:20191126T223000Z
DTEND:20191127T000000Z
SUMMARY:Reading With Spiritual Eyes
GEO:-27.467416;153.003675
LOCATION:St Francis College\, 233 Milton Road\, Milton\, QLD\, 4064\, Austr
 alia
END:VEVENT
END:VCALENDAR
