BEGIN:VCALENDAR
VERSION:2.0
PRODID:-//Squarespace Inc/Squarespace 6//v6//EN
BEGIN:VEVENT
UID:5dedaa1caf06d83e3e5d18e5@squarespace.com
DTSTAMP:20191209T020307Z
DTSTART:20191225T130000Z
DTEND:20200102T020000Z
SUMMARY:College Christmas Closure
GEO:-27.467416;153.003675
LOCATION:St Francis College\, 233 Milton Road\, Milton\, QLD\, 4064\, Austr
 alia
END:VEVENT
END:VCALENDAR
