BEGIN:VCALENDAR
VERSION:2.0
PRODID:-//Squarespace Inc/Squarespace 6//v6//EN
BEGIN:VEVENT
UID:5c64b1d6b208fc4e097bb5d7@squarespace.com
DTSTAMP:20190214T025525Z
DTSTART:20190308T230000Z
DTEND:20190309T020000Z
SUMMARY:Launch of The Community of the Way
GEO:-27.467416;153.003675
LOCATION:St Francis College\, 233 Milton Road\, Milton\, QLD\, 4064\, Austr
 alia
END:VEVENT
END:VCALENDAR
