BEGIN:VCALENDAR
VERSION:2.0
PRODID:-//Squarespace Inc/Squarespace 6//v6//EN
BEGIN:VEVENT
UID:5c36b6b74ae237d59a169838@squarespace.com
DTSTAMP:20190110T030914Z
DTSTART:20190217T230000Z
DTEND:20190218T003000Z
SUMMARY:Commencement Service 2019
GEO:-27.467416;153.003675
LOCATION:St Francis College\, 233 Milton Road\, Milton\, QLD\, 4064\, Austr
 alia
END:VEVENT
END:VCALENDAR
