BEGIN:VCALENDAR
VERSION:2.0
PRODID:-//Squarespace Inc/Squarespace 6//v6//EN
BEGIN:VEVENT
UID:5c7f2d73b208fc58dbac0884@squarespace.com
DTSTAMP:20190306T060149Z
DTSTART:20190314T180000Z
DTEND:20190314T210000Z
SUMMARY:SFC Research Seminar
GEO:43.040611;-73.924845
LOCATION:Old Bishopsbourne\, St Francis College\, 233 Milton Rd\, Milton\, 
 Australia
END:VEVENT
END:VCALENDAR
