BEGIN:VCALENDAR
VERSION:2.0
PRODID:-//Squarespace Inc/Squarespace 6//v6//EN
BEGIN:VEVENT
UID:5c7dd78a971a18257ac791bb@squarespace.com
DTSTAMP:20190305T020126Z
DTSTART:20190305T230000Z
DTEND:20190306T010000Z
SUMMARY:Shrove Tuesday Pancake Dinner and Campfire
GEO:40.720756;-74.000761
LOCATION:St Francis College\, 233 Milton Road\, Milton\, QLD\, 4064\, Austr
 alia
END:VEVENT
END:VCALENDAR
