BEGIN:VCALENDAR
VERSION:2.0
PRODID:-//Squarespace Inc/Squarespace 6//v6//EN
BEGIN:VEVENT
UID:5c7dd660104c7bf71224a0c1@squarespace.com
DTSTAMP:20190305T015715Z
DTSTART:20190306T173000Z
DTEND:20190306T183000Z
SUMMARY: Ash Wednesday
GEO:-27.467416;153.003675
LOCATION:St Francis College\, 233 Milton Road\, Milton\, QLD\, 4064\, Austr
 alia
END:VEVENT
END:VCALENDAR
